Workbook

Sheet ต.1
A1: สรุปผลการประเมินตนเอง ประจำปีการศึกษา ………..
A2: คณะ ….................................................……..
A3: ตารางที่ 1 ผลการประเมินตนเองรายตัวบ่งชี้ตามองค์ประกอบคุณภาพ
A4: องค์ประกอบ/ตัวบ่งชี้ | B4: คะแนนการประเมิน
A5: องค์ประกอบที่ 1 การผลิตบัณฑิต | C5: ใส่ผลคะแนนการประเมินในช่องว่าง
A6: ตัวบ่งชี้ที่ 1.1 ผลการบริหารจัดการหลักสูตรโดยรวม | C6: หากคณะไม่ได้รับการประเมินในตัวบ่งชี้ใด
A7: ตัวบ่งชี้ที่ 1.2 อาจารย์ประจำคณะที่มีคุณวุฒิปริญญาเอก | C7: ไม่ต้องใส่คะแนนการประเมินในตัวบ่งชี้นั้น ๆ
A8: ตัวบ่งชี้ที่ 1.3 อาจารย์ประจำคณะที่ดำรงตำแหน่งทางวิชาการ | C8: โปรแกรมจะไม่นำตัวบ่งชี้ที่ไม่ได้รับการประเมิน
A9: ตัวบ่งชี้ที่ 1.4 จำนวนนักศึกษาเต็มเวลาเทียบเท่าต่อจำนวนอาจารย์ประจำ | C9: มาเป็นตัวหารในการคำนวณ
A10: ตัวบ่งชี้ที่ 1.5 การบริการนักศึกษาระดับปริญญาตรี
A11: ตัวบ่งชี้ที่ 1.6 กิจกรรมนักศึกษาระดับปริญญาตรี
A12: ตัวบ่งชี้ที่ 1.7 การส่งเสริมสมรรถนะและทักษะการใช้ภาษาอังกฤษ
A13: ตัวบ่งชี้ที่ 1.8 การส่งเสริมสมรรถนะและทักษะด้านดิจิทัล
A14: ตัวบ่งชี้ที่ 1.9 ผลลัพธ์ของหลักสูตรที่นักศึกษามีส่วนร่วมในการสร้างนวัตกรรม
A15: ตัวบ่งชี้ที่ 1.10 คุณภาพบัณฑิตตามกรอบมาตรฐานคุณวุฒิระดับอุดมศึกษา
A16: ตัวบ่งชี้ที่ 1.11 ร้อยละของบัณฑิตปริญญาตรีที่ได้งานทำหรือประกอบอาชีพอิสระภายใน 1 ปี
A17: คะแนนเฉลี่ยองค์ประกอบที่ 1 | B17: =AVERAGE(B6:B16) -> #DIV/0!
A18: องค์ประกอบที่ 2 การวิจัย
A19: ตัวบ่งชี้ที่ 2.1 ระบบและกลไกงานวิจัย งานสร้างสรรค์ หรือนวัตกรรม
A20: ตัวบ่งชี้ที่ 2.2 เงินสนับสนุนงานวิจัยและงานสร้างสรรค์
A21: ตัวบ่งชี้ที่ 2.3 ผลงานทางวิชาการของอาจารย์ประจำและนักวิจัย
A22: ตัวบ่งชี้ที่ 2.4 งานวิจัย งานสร้างสรรค์ หรือนวัตกรรมที่นำไปใช้ประโยชน์ต่อชุมชน
A23: คะแนนเฉลี่ยองค์ประกอบที่ 2 | B23: =AVERAGE(B19:B22) -> #DIV/0!
A24: องค์ประกอบที่ 3 การบริการวิชาการ
A25: ตัวบ่งชี้ที่ 3.1 ระบบและกลไกการบริการวิชาการเพื่อการพัฒนาท้องถิ่น ชุมชน หรือสังคม
A26: ตัวบ่งชี้ที่ 3.2 ชุมชนเป้าหมายที่ได้รับการพัฒนาอย่างต่อเนื่องตามแผนเสริมสร้างความสัมพันธ์กับชุมชน
A27: คะแนนเฉลี่ยองค์ประกอบที่ 3 | B27: =AVERAGE(B25:B26) -> #DIV/0!
A28: องค์ประกอบที่ 4 ด้านศิลปวัฒนธรรมและความเป็นไทย
A29: ตัวบ่งชี้ที่ 4.1 ระบบและกลไกการด้านศิลปวัฒนธรรมและความเป็นไทย
A30: คะแนนเฉลี่ยองค์ประกอบที่ 4 | B30: =B29 -> 0
A31: องค์ประกอบที่ 5 การบริหารจัดการ
A32: ตัวบ่งชี้ที่ 5.1 การจัดการเรียนรู้แบบบูรณาการกับการทำงาน
A33: ตัวบ่งชี้ที่ 5.2 การบริหารของคณะเพื่อการกำกับติดตามผลลัพธ์ตามพันธกิจ กลุ่มสถาบันและเอกลักษณ์ของคณะ
A34: ตัวบ่งชี้ที่ 5.3 ระบบกำกับการประกันคุณภาพหลักสูตร
A35: คะแนนเฉลี่ยองค์ประกอบที่ 5 | B35: =AVERAGE(B32:B34) -> #DIV/0!
A36: คะแนนเฉลี่ยของผลการประเมินองค์ประกอบที่ 1 - 5 | B36: =AVERAGE(B6:B16,B19:B22,B25:B26,B29,B32:B34) -> #DIV/0!
A37: ผลการประเมิน | B37: =IF(B36>=4.51,"ดีมาก",IF(B36>=3.51,"ดี",IF(B36>=2.51,"พอใช้",IF(B36>=1.51,"ต้องปรับปรุง","ปรับปรุงเร่งด่วน")))) -> #DIV/0!

Sheet ต.2
A1: ตารางที่ 2 องค์ประกอบคุณภาพของกลุ่มมหาวิทยาลัยราชภัฏ 5 ด้าน และตัวบ่งชี้ที่ใช้ประเมินคุณภาพการศึกษาภายใน ตามองค์ประกอบของมหาวิทยาลัยราชภัฏสกลนคร ระดับคณะ
A2: องค์ประกอบ | B2: จำนวนตัวบ่งชี้ | C2: คะแนนการประเมินเฉลี่ย | G2: ผลการประเมิน
C3: I | D3: P | E3: O | F3: คะแนนเฉลี่ย | G3: 0.00 – 1.50 การดำเนินงานต้องปรับปรุงเร่งด่วน 1.51 – 2.50 การดำเนินงานต้องปรับปรุง 2.51 – 3.50 การดำเนินงานระดับพอใช้ 3.51 – 4.50 การดำเนินงานระดับดี 4.51 – 5.00 การดำเนินงานระดับดีมาก
A5: องค์ประกอบที่ 1 การผลิตบัณฑิต | B5: 11 | C5: =AVERAGE(ต.1!B7,ต.1!B8,ต.1!B9) -> #DIV/0! | D5: =AVERAGE(ต.1!B10,ต.1!B11,ต.1!B12,ต.1!B13) -> #DIV/0! | E5: =AVERAGE(ต.1!B6,ต.1!B14,ต.1!B15,ต.1!B16) -> #DIV/0! | F5: =AVERAGE(ต.1!B6:'ต.1'!B16) -> #DIV/0! | G5: =IF(F5>=4.51,"ดีมาก",IF(F5>=3.51,"ดี",IF(F5>=2.51,"พอใช้",IF(F5>=1.51,"ต้องปรับปรุง","ปรับปรุงเร่งด่วน")))) -> #DIV/0!
A6: องค์ประกอบที่ 2 การวิจัย | B6: 4 | C6: =AVERAGE(ต.1!B20) -> #DIV/0! | D6: =AVERAGE(ต.1!B19) -> #DIV/0! | E6: =AVERAGE(ต.1!B21,ต.1!B22) -> #DIV/0! | F6: =AVERAGE(ต.1!B19:'ต.1'!B22) -> #DIV/0! | G6: =IF(F6>=4.51,"ดีมาก",IF(F6>=3.51,"ดี",IF(F6>=2.51,"พอใช้",IF(F6>=1.51,"ต้องปรับปรุง","ปรับปรุงเร่งด่วน")))) -> #DIV/0!
A7: องค์ประกอบที่ 3 การบริการวิชาการ | B7: 2 | C7: - | D7: =AVERAGE(ต.1!B25) -> #DIV/0! | E7: =AVERAGE(ต.1!B26) -> #DIV/0! | F7: =AVERAGE(ต.1!B25:'ต.1'!B26) -> #DIV/0! | G7: =IF(F7>=4.51,"ดีมาก",IF(F7>=3.51,"ดี",IF(F7>=2.51,"พอใช้",IF(F7>=1.51,"ต้องปรับปรุง","ปรับปรุงเร่งด่วน")))) -> #DIV/0!
A8: องค์ประกอบที่ 4 ด้านศิลปวัฒนธรรมและความเป็นไทย | B8: 1 | C8: - | D8: =AVERAGE(ต.1!B29) -> #DIV/0! | E8: - | F8: =AVERAGE(ต.1!B29) -> #DIV/0! | G8: =IF(F8>=4.51,"ดีมาก",IF(F8>=3.51,"ดี",IF(F8>=2.51,"พอใช้",IF(F8>=1.51,"ต้องปรับปรุง","ปรับปรุงเร่งด่วน")))) -> #DIV/0!
A9: องค์ประกอบที่ 5 การบริหารจัดการ | B9: 3 | C9: - | D9: =AVERAGE(ต.1!B32,ต.1!B33,ต.1!B34) -> #DIV/0! | E9: - | F9: =AVERAGE(ต.1!B32:'ต.1'!B34) -> #DIV/0! | G9: =IF(F9>=4.51,"ดีมาก",IF(F9>=3.51,"ดี",IF(F9>=2.51,"พอใช้",IF(F9>=1.51,"ต้องปรับปรุง","ปรับปรุงเร่งด่วน")))) -> #DIV/0!
A10: รวม | B10: =SUM(B5:B9) -> 21 | C10: =AVERAGE(ต.1!B7:'ต.1'!B9,ต.1!B20) -> #DIV/0! | D10: =AVERAGE(ต.1!B10:'ต.1'!B13,ต.1!B19,ต.1!B25,ต.1!B29,ต.1!B32:'ต.1'!B34) -> #DIV/0! | E10: =AVERAGE(ต.1!B6,ต.1!B14:'ต.1'!B16,ต.1!B21,ต.1!B22,ต.1!B26) -> #DIV/0! | F10: =AVERAGE(ต.1!B36) -> #DIV/0! | G10: =IF(F10>=4.51,"ดีมาก",IF(F10>=3.51,"ดี",IF(F10>=2.51,"พอใช้",IF(F10>=1.51,"ต้องปรับปรุง","ปรับปรุงเร่งด่วน")))) -> #DIV/0!
A11: ผลการประเมิน | C11: =IF(C10>=4.51,"ดีมาก",IF(C10>=3.51,"ดี",IF(C10>=2.51,"พอใช้",IF(C10>=1.51,"ต้องปรับปรุง","ปรับปรุงเร่งด่วน")))) -> #DIV/0! | D11: =IF(D10>=4.51,"ดีมาก",IF(D10>=3.51,"ดี",IF(D10>=2.51,"พอใช้",IF(D10>=1.51,"ต้องปรับปรุง","ปรับปรุงเร่งด่วน")))) -> #DIV/0! | E11: =IF(E10>=4.51,"ดีมาก",IF(E10>=3.51,"ดี",IF(E10>=2.51,"พอใช้",IF(E10>=1.51,"ต้องปรับปรุง","ปรับปรุงเร่งด่วน")))) -> #DIV/0! | F11: =IF(F10>=4.51,"ดีมาก",IF(F10>=3.51,"ดี",IF(F10>=2.51,"พอใช้",IF(F10>=1.51,"ต้องปรับปรุง","ปรับปรุงเร่งด่วน")))) -> #DIV/0!

Sheet ต.3
A1: ตารางที่ 3 มาตรฐานการศึกษาของกลุ่มมหาวิทยาลัยราชภัฏ 5 ด้าน และตัวบ่งชี้ที่ใช้ประเมินคุณภาพการศึกษาภายใน ตามมาตรฐานของมหาวิทยาลัยราชภัฏสกลนคร ระดับคณะ
A2: มาตรฐาน | B2: จำนวนตัวบ่งชี้ | C2: คะแนนการประเมินเฉลี่ย | G2: ผลการประเมิน
C3: I | D3: P | E3: O | F3: คะแนนเฉลี่ย | G3: 0.00 – 1.50 การดำเนินงานต้องปรับปรุงเร่งด่วน 1.51 – 2.50 การดำเนินงานต้องปรับปรุง 2.51 – 3.50 การดำเนินงานระดับพอใช้ 3.51 – 4.50 การดำเนินงานระดับดี 4.51 – 5.00 การดำเนินงานระดับดีมาก
A5: มาตรฐานที่ 1 ด้านผลลัพธ์ผู้เรียน | B5: 11 | C5: =AVERAGE(ต.1!B7,ต.1!B8,ต.1!B9) -> #DIV/0! | D5: =AVERAGE(ต.1!B10,ต.1!B11,ต.1!B12,ต.1!B13) -> #DIV/0! | E5: =AVERAGE(ต.1!B6,ต.1!B14,ต.1!B15,ต.1!B16) -> #DIV/0! | F5: =AVERAGE(ต.1!B6:'ต.1'!B16) -> #DIV/0! | G5: =IF(F5>=4.51,"ดีมาก",IF(F5>=3.51,"ดี",IF(F5>=2.51,"พอใช้",IF(F5>=1.51,"ต้องปรับปรุง","ปรับปรุงเร่งด่วน")))) -> #DIV/0!
A6: มาตรฐานที่ 2 ด้านการวิจัยและนวัตกรรม | B6: 4 | C6: =AVERAGE(ต.1!B20) -> #DIV/0! | D6: =AVERAGE(ต.1!B19) -> #DIV/0! | E6: =AVERAGE(ต.1!B21,ต.1!B22) -> #DIV/0! | F6: =AVERAGE(ต.1!B19:'ต.1'!B22) -> #DIV/0! | G6: =IF(F6>=4.51,"ดีมาก",IF(F6>=3.51,"ดี",IF(F6>=2.51,"พอใช้",IF(F6>=1.51,"ต้องปรับปรุง","ปรับปรุงเร่งด่วน")))) -> #DIV/0!
A7: มาตรฐานที่ 3 ด้านการบริการวิชาการ | B7: 2 | C7: - | D7: =AVERAGE(ต.1!B25) -> #DIV/0! | E7: =AVERAGE(ต.1!B26) -> #DIV/0! | F7: =AVERAGE(ต.1!B25:'ต.1'!B26) -> #DIV/0! | G7: =IF(F7>=4.51,"ดีมาก",IF(F7>=3.51,"ดี",IF(F7>=2.51,"พอใช้",IF(F7>=1.51,"ต้องปรับปรุง","ปรับปรุงเร่งด่วน")))) -> #DIV/0!
A8: มาตรฐานที่ 4 ด้านศิลปวัฒนธรรมและความเป็นไทย | B8: 1 | C8: - | D8: =AVERAGE(ต.1!B29) -> #DIV/0! | E8: - | F8: =AVERAGE(ต.1!B29) -> #DIV/0! | G8: =IF(F8>=4.51,"ดีมาก",IF(F8>=3.51,"ดี",IF(F8>=2.51,"พอใช้",IF(F8>=1.51,"ต้องปรับปรุง","ปรับปรุงเร่งด่วน")))) -> #DIV/0!
A9: มาตรฐานที่ 5 ด้านการบริหารจัดการ | B9: 3 | C9: - | D9: =AVERAGE(ต.1!B32,ต.1!B33,ต.1!B34) -> #DIV/0! | E9: - | F9: =AVERAGE(ต.1!B32:'ต.1'!B34) -> #DIV/0! | G9: =IF(F9>=4.51,"ดีมาก",IF(F9>=3.51,"ดี",IF(F9>=2.51,"พอใช้",IF(F9>=1.51,"ต้องปรับปรุง","ปรับปรุงเร่งด่วน")))) -> #DIV/0!
A10: รวม | B10: =SUM(B5:B9) -> 21 | C10: =AVERAGE(ต.1!B7:'ต.1'!B9,ต.1!B20) -> #DIV/0! | D10: =AVERAGE(ต.1!B10:'ต.1'!B13,ต.1!B19,ต.1!B25,ต.1!B29,ต.1!B32:'ต.1'!B34) -> #DIV/0! | E10: =AVERAGE(ต.1!B6,ต.1!B14:'ต.1'!B16,ต.1!B21,ต.1!B22,ต.1!B26) -> #DIV/0! | F10: =AVERAGE(ต.1!B36) -> #DIV/0! | G10: =IF(F10>=4.51,"ดีมาก",IF(F10>=3.51,"ดี",IF(F10>=2.51,"พอใช้",IF(F10>=1.51,"ต้องปรับปรุง","ปรับปรุงเร่งด่วน")))) -> #DIV/0!
A11: ผลการประเมิน | C11: =IF(C10>=4.51,"ดีมาก",IF(C10>=3.51,"ดี",IF(C10>=2.51,"พอใช้",IF(C10>=1.51,"ต้องปรับปรุง","ปรับปรุงเร่งด่วน")))) -> #DIV/0! | D11: =IF(D10>=4.51,"ดีมาก",IF(D10>=3.51,"ดี",IF(D10>=2.51,"พอใช้",IF(D10>=1.51,"ต้องปรับปรุง","ปรับปรุงเร่งด่วน")))) -> #DIV/0! | E11: =IF(E10>=4.51,"ดีมาก",IF(E10>=3.51,"ดี",IF(E10>=2.51,"พอใช้",IF(E10>=1.51,"ต้องปรับปรุง","ปรับปรุงเร่งด่วน")))) -> #DIV/0! | F11: =IF(F10>=4.51,"ดีมาก",IF(F10>=3.51,"ดี",IF(F10>=2.51,"พอใช้",IF(F10>=1.51,"ต้องปรับปรุง","ปรับปรุงเร่งด่วน")))) -> #DIV/0!
