Workbook

Sheet ต.1
A1: สรุปผลการประเมินคุณภาพการศึกษาภายใน ประจำปีการศึกษา...................... | F1: ใส่ผลคะแนนการประเมินในช่องว่าง
A2: หลักสูตร...................................................สาขาวิชา.................................................... | F2: หากหลักสูตรไม่ได้รับการประเมินในตัวบ่งชี้ใด
A3: ตารางที่ 1 ตารางผลการประเมินรายตัวบ่งชี้ของ สกอ. (หลักสูตรระดับปริญญาตรี เกณฑ์ปี พ.ศ. 2558) | F3: ไม่ต้องใส่คะแนนการประเมินในตัวบ่งชี้นั้น ๆ
A4: องค์ประกอบ / ตัวบ่งชี้ | B4: คะแนนประเมิน | F4: โปรแกรมจะไม่นำตัวบ่งชี้ที่ไม่ได้รับการประเมิน
A5: องค์ประกอบที่ 1 การกำกับมาตรฐาน | F5: มาเป็นตัวหารในการคำนวณ
A6: ตัวบ่งชี้ที่ 1.1 ผลการบริหารจัดการหลักสูตรตามเกณฑ์มาตรฐานหลักสูตร
A7: หลักสูตรได้มาตรฐาน/ไม่ได้มาตรฐาน | B7: =IF(B6>=5,"ผ่านการประเมิน",IF(B6<=5,"ไม่ผ่านการประเมิน")) -> ไม่ผ่านการประเมิน
A8: องค์ประกอบที่ 2 บัณฑิต
A9: ตัวบ่งชี้ที่ 2.1 คุณภาพบัณฑิตตามกรอบมาตรฐานคุณวุฒิระดับอุดมศึกษาแห่งชาติ
A10: ตัวบ่งชี้ที่ 2.2 ร้อยละของบัณฑิตปริญญาตรีที่ได้งานทำหรือประกอบอาชีพอิสระภายใน 1 ปี
A11: คะแนนเฉลี่ยองค์ประกอบที่ 2 | B11: =AVERAGE(B9:B10) -> #DIV/0!
A12: องค์ประกอบที่ 3 นักศึกษา
A13: ตัวบ่งชี้ที่ 3.1 การรับนักศึกษา
A14: ตัวบ่งชี้ที่ 3.2 การส่งเสริมและพัฒนานักศึกษา
A15: ตัวบ่งชี้ที่ 3.3 ผลที่เกิดกับนักศึกษา
A16: คะแนนเฉลี่ยองค์ประกอบที่ 3 | B16: =AVERAGE(B13:B15) -> #DIV/0!
A17: องค์ประกอบที่ 4 อาจารย์
A18: ตัวบ่งชี้ที่ 4.1 การบริหารและพัฒนาอาจารย์
A19: ตัวบ่งชี้ที่ 4.2 คุณภาพอาจารย์
A20: ตัวบ่งชี้ที่ 4.3 ผลที่เกิดกับอาจารย์
A21: คะแนนเฉลี่ยองค์ประกอบที่ 4 | B21: =AVERAGE(B18:B20) -> #DIV/0!
A22: องค์ประกอบที่ 5 หลักสูตรการเรียนการสอน การประเมินผู้เรียน
A23: ตัวบ่งชี้ที่ 5.1 สาระของรายวิชาในหลักสูตร
A24: ตัวบ่งชี้ที่ 5.2 การวางระบบผู้สอนและกระบวนการจัดการเรียนการสอน
A25: ตัวบ่งชี้ที่ 5.3 การประเมินผู้เรียน
A26: ตัวบ่งชี้ที่ 5.4 ผลการดำเนินงานหลักสูตรตามกรอบมาตรฐานคุณวุฒิระดับอุดมศึกษาแห่งชาติ
A27: คะแนนเฉลี่ยองค์ประกอบที่ 5 | B27: =AVERAGE(B23:B26) -> #DIV/0!
A28: องค์ประกอบที่ 6 สิ่งสนับสนุนการเรียนรู้
A29: ตัวบ่งชี้ที่ 6.1 สิ่งสนับสนุนการเรียนรู้
A30: คะแนนเฉลี่ยองค์ประกอบที่ 6 | B30: =AVERAGE(B29) -> #DIV/0!
A31: คะแนนเฉลี่ยของผลการประเมินองค์ประกอบที่ 1 - 6 (รวม 13 ตัวบ่งชี้) | B31: =AVERAGE(B9:B10,B13:B15,B18:B20,B23:B26,B29) -> #DIV/0!
A32: ผลการประเมิน | B32: =IF(B31>=4.01,"ระดับคุณภาพดีมาก",IF(B31>=3.01,"ระดับคุณภาพดี",IF(B31>=2.01,"ระดับคุณภาพปานกลาง",IF(B31>=0.01,"ระดับคุณภาพน้อย")))) -> #DIV/0!

Sheet ต.2
A1: ตารางที่ 2 องค์ประกอบคุณภาพ 6 ด้าน และตัวบ่งชี้ที่ใช้ประเมินคุณภาพการศึกษาภายใน
A2: ตามองค์ประกอบระดับหลักสูตร
A3: องค์ประกอบ | B3: คะแนนผ่าน | C3: จำนวนตัวบ่งชี้ | D3: คะแนนการประเมินเฉลี่ย | H3: ผลการประเมิน
D4: I | E4: P | F4: O | G4: คะแนนเฉลี่ย | H4: 0.01 - 2.00 ระดับคุณภาพน้อย 2.01 - 3.00 ระดับคุณภาพปานกลาง 3.01 - 4.00 ระดับคุณภาพดี 4.01 - 5.00 ระดับคุณภาพดีมาก
A6: องค์ประกอบที่ 1 การกำกับมาตรฐาน | B6: =IF(ต.1!B6>=3,"ผ่านการประเมิน",IF(ต.1!B6<=3,"ไม่ผ่านการประเมิน")) -> ไม่ผ่านการประเมิน | H6: =IF(ต.1!B6>=3,"หลักสูตรได้มาตรฐาน",IF(ต.1!B6<=3,"หลักสูตรไม่ได้มาตรฐาน")) -> หลักสูตรไม่ได้มาตรฐาน
A7: องค์ประกอบที่ 2 บัณฑิต | B7: คะแนนเฉลี่ย ของทุกตัวบ่งชี้ในองค์ประกอบที่ 2 - 6 | C7: 2 | D7: - | E7: - | F7: =AVERAGE(ต.1!B9,ต.1!B10) -> #DIV/0! | G7: =AVERAGE(ต.1!B9,ต.1!B10) -> #DIV/0! | H7: =IF(G7>=4.01,"ระดับคุณภาพดีมาก",IF(G7>=3.01,"ระดับคุณภาพดี",IF(G7>=2.01,"ระดับคุณภาพปานกลาง",IF(G7>=0.01,"ระดับคุณภาพน้อย")))) -> #DIV/0!
A8: องค์ประกอบที่ 3 นักศึกษา | C8: 3 | D8: - | E8: =AVERAGE(ต.1!B13,ต.1!B14) -> #DIV/0! | F8: =AVERAGE(ต.1!B15) -> #DIV/0! | G8: =AVERAGE(ต.1!B13,ต.1!B14,ต.1!B15) -> #DIV/0! | H8: =IF(G8>=4.01,"ระดับคุณภาพดีมาก",IF(G8>=3.01,"ระดับคุณภาพดี",IF(G8>=2.01,"ระดับคุณภาพปานกลาง",IF(G8>=0.01,"ระดับคุณภาพน้อย")))) -> #DIV/0!
A9: องค์ประกอบที่ 4 อาจารย์ | C9: 3 | D9: =AVERAGE(ต.1!B19) -> #DIV/0! | E9: =AVERAGE(ต.1!B18) -> #DIV/0! | F9: =AVERAGE(ต.1!B20) -> #DIV/0! | G9: =AVERAGE(ต.1!B18,ต.1!B19,ต.1!B20) -> #DIV/0! | H9: =IF(G9>=4.01,"ระดับคุณภาพดีมาก",IF(G9>=3.01,"ระดับคุณภาพดี",IF(G9>=2.01,"ระดับคุณภาพปานกลาง",IF(G9>=0.01,"ระดับคุณภาพน้อย")))) -> #DIV/0!
A10: องค์ประกอบที่ 5 หลักสูตร การเรียนการสอน การประเมินผู้เรียน | C10: 4 | D10: - | E10: =AVERAGE(ต.1!B23,ต.1!B24,ต.1!B25) -> #DIV/0! | F10: =AVERAGE(ต.1!B26) -> #DIV/0! | G10: =AVERAGE(ต.1!B23,ต.1!B24,ต.1!B25,ต.1!B26) -> #DIV/0! | H10: =IF(G10>=4.01,"ระดับคุณภาพดีมาก",IF(G10>=3.01,"ระดับคุณภาพดี",IF(G10>=2.01,"ระดับคุณภาพปานกลาง",IF(G10>=0.01,"ระดับคุณภาพน้อย")))) -> #DIV/0!
A11: องค์ประกอบที่ 6 สิ่งสนับสนุนการเรียนรู้ | C11: 1 | D11: - | E11: =AVERAGE(ต.1!B29) -> #DIV/0! | F11: - | G11: =AVERAGE(ต.1!B29) -> #DIV/0! | H11: =IF(G11>=4.01,"ระดับคุณภาพดีมาก",IF(G11>=3.01,"ระดับคุณภาพดี",IF(G11>=2.01,"ระดับคุณภาพปานกลาง",IF(G11>=0.01,"ระดับคุณภาพน้อย")))) -> #DIV/0!
A12: รวม | C12: =SUM(C7:C11) -> 13 | D12: =AVERAGE(ต.1!B19) -> #DIV/0! | E12: =AVERAGE(ต.1!B13,ต.1!B14,ต.1!B18,ต.1!B23,ต.1!B24,ต.1!B25,ต.1!B29) -> #DIV/0! | F12: =AVERAGE(ต.1!B9,ต.1!B10,ต.1!B15,ต.1!B20,ต.1!B26) -> #DIV/0! | G12: =AVERAGE(ต.1!B9:'ต.1'!B10,ต.1!B13:'ต.1'!B15,ต.1!B18:'ต.1'!B20,ต.1!B23:'ต.1'!B26,ต.1!B29) -> #DIV/0! | H12: =IF(G12>=4.01,"ระดับคุณภาพดีมาก",IF(G12>=3.01,"ระดับคุณภาพดี",IF(G12>=2.01,"ระดับคุณภาพปานกลาง",IF(G12>=0.01,"ระดับคุณภาพน้อย")))) -> #DIV/0!
A13: ผลการประเมิน | D13: =IF(D12>=4.01,"ระดับคุณภาพดีมาก",IF(D12>=3.01,"ระดับคุณภาพดี",IF(D12>=2.01,"ระดับคุณภาพปานกลาง",IF(D12>=0.01,"ระดับคุณภาพน้อย")))) -> #DIV/0! | E13: =IF(E12>=4.01,"ระดับคุณภาพดีมาก",IF(E12>=3.01,"ระดับคุณภาพดี",IF(E12>=2.01,"ระดับคุณภาพปานกลาง",IF(E12>=0.01,"ระดับคุณภาพน้อย")))) -> #DIV/0! | F13: =IF(F12>=4.01,"ระดับคุณภาพดีมาก",IF(F12>=3.01,"ระดับคุณภาพดี",IF(F12>=2.01,"ระดับคุณภาพปานกลาง",IF(F12>=0.01,"ระดับคุณภาพน้อย")))) -> #DIV/0!

Sheet ต.3
A1: ตารางที่ 3 มาตรฐานการศึกษาของมหาวิทยาลัยราชภัฏ 5 ด้าน และตัวบ่งชี้ที่ใช้ประเมินคุณภาพการศึกษาภายในตามมาตรฐานการศึกษา
A2: ของมหาวิทยาลัยราชภัฏ ระดับหลักสูตร
A3: มาตรฐาน | B3: จำนวนตัวบ่งชี้ | C3: คะแนนการประเมินเฉลี่ย | G3: ผลการประเมิน
C4: I | D4: P | E4: O | F4: คะแนนเฉลี่ย | G4: 0.01 - 2.00 ระดับคุณภาพน้อย 2.01 - 3.00 ระดับคุณภาพปานกลาง 3.01 - 4.00 ระดับคุณภาพดี 4.01 - 5.00 ระดับคุณภาพดีมาก
A6: มาตรฐานที่ 1 ด้านผลลัพธ์ผู้เรียน | B6: 9 | C6: - | D6: =AVERAGE(ต.1!B13,ต.1!B14,ต.1!B23,ต.1!B25,ต.1!B29) -> #DIV/0! | E6: =AVERAGE(ต.1!B9,ต.1!B10,ต.1!B15,ต.1!B26) -> #DIV/0! | F6: =AVERAGE(ต.1!B9,ต.1!B10,ต.1!B13,ต.1!B14,ต.1!B15,ต.1!B23,ต.1!B25,ต.1!B26,ต.1!B29) -> #DIV/0! | G6: =IF(F6>=4.01,"ระดับคุณภาพดีมาก",IF(F6>=3.01,"ระดับคุณภาพดี",IF(F6>=2.01,"ระดับคุณภาพปานกลาง",IF(F6>=0.01,"ระดับคุณภาพน้อย")))) -> #DIV/0!
A7: มาตรฐานที่ 2 ด้านการวิจัยและนวัตกรรม | B7: 4 | C7: =AVERAGE(ต.1!B19) -> #DIV/0! | D7: =AVERAGE(ต.1!B18,ต.1!B24) -> #DIV/0! | E7: =AVERAGE(ต.1!B20) -> #DIV/0! | F7: =AVERAGE(ต.1!B18,ต.1!B19,ต.1!B20,ต.1!B24) -> #DIV/0! | G7: =IF(F7>=4.01,"ระดับคุณภาพดีมาก",IF(F7>=3.01,"ระดับคุณภาพดี",IF(F7>=2.01,"ระดับคุณภาพปานกลาง",IF(F7>=0.01,"ระดับคุณภาพน้อย")))) -> #DIV/0!
A8: มาตรฐานที่ 3 ด้านการบริการวิชาการ | B8: - | C8: - | D8: - | E8: - | F8: - | G8: -
A9: มาตรฐานที่ 4 ด้านผลลัพธ์ผู้เรียน | B9: - | C9: - | D9: - | E9: - | F9: - | G9: -
A10: มาตรฐานที่ 5 ด้านการบริหารจัดการ | B10: - | C10: - | D10: - | E10: - | F10: - | G10: -
A11: รวม | B11: =SUM(B6:B10) -> 13 | C11: =AVERAGE(ต.1!B19) -> #DIV/0! | D11: =AVERAGE(ต.1!B13,ต.1!B14,ต.1!B18,ต.1!B23,ต.1!B24,ต.1!B25,ต.1!B29) -> #DIV/0! | E11: =AVERAGE(ต.1!B9,ต.1!B10,ต.1!B15,ต.1!B20,ต.1!B26) -> #DIV/0! | F11: =AVERAGE(ต.1!B9,ต.1!B10,ต.1!B13,ต.1!B14,ต.1!B15,ต.1!B18,ต.1!B19,ต.1!B20,ต.1!B23,ต.1!B24,ต.1!B25,ต.1!B26,ต.1!B29) -> #DIV/0! | G11: =IF(F11>=4.01,"ระดับคุณภาพดีมาก",IF(F11>=3.01,"ระดับคุณภาพดี",IF(F11>=2.01,"ระดับคุณภาพปานกลาง",IF(F11>=0.01,"ระดับคุณภาพน้อย")))) -> #DIV/0!
A12: ผลการประเมิน | C12: =IF(C11>=4.01,"ระดับคุณภาพดีมาก",IF(C11>=3.01,"ระดับคุณภาพดี",IF(C11>=2.01,"ระดับคุณภาพปานกลาง",IF(C11>=0.01,"ระดับคุณภาพน้อย")))) -> #DIV/0! | D12: =IF(D11>=4.01,"ระดับคุณภาพดีมาก",IF(D11>=3.01,"ระดับคุณภาพดี",IF(D11>=2.01,"ระดับคุณภาพปานกลาง",IF(D11>=0.01,"ระดับคุณภาพน้อย")))) -> #DIV/0! | E12: =IF(E11>=4.01,"ระดับคุณภาพดีมาก",IF(E11>=3.01,"ระดับคุณภาพดี",IF(E11>=2.01,"ระดับคุณภาพปานกลาง",IF(E11>=0.01,"ระดับคุณภาพน้อย")))) -> #DIV/0!
