Workbook

Sheet จำนวนรวมผู้สำเร็จการศึกษา 2564
A1: จำนวนผู้สำเร็จการศึกษา คณะวิทยาศาสตร์และเทคโนโลยี วงรอบปีการศึกษา 2564
A2: คณะ | B2: ระดับปริญญา
B3: ปริญญาตรี | E3: ประกาศนียบัตรบัณฑิต | H3: ปริญญาโท | K3: ปริญญาเอก | N3: รวม
B4: ภาค | D4: รวม | E4: ภาค | G4: รวม | H4: ภาค | J4: รวม | K4: ภาค | M4: รวม
B5: ปกติ | C5: กศ.ป. | E5: ปกติ | F5: พิเศษ | H5: ปกติ | I5: พิเศษ | K5: ปกติ | L5: พิเศษ
A6: ครุศาสตร์ | B6: 0 | C6: 0 | D6: =+B6+C6 -> 0 | E6: =+'[1]จำนวน ป.โท ป.เอก วงรอบ 2560'!D7 -> 0 | F6: 0 | G6: =+E6+F6 -> 0 | H6: 0 | I6: 0 | J6: =+H6+I6 -> 0 | K6: 0 | L6: 0 | M6: =+K6+L6 -> 0 | N6: =+D6+G6+J6+M6 -> 0
A7: มนุษยศาสตร์และสังคมศาสตร์ | B7: 0 | C7: 0 | D7: =+B7+C7 -> 0 | E7: 0 | F7: 0 | G7: =+E7+F7 -> 0 | H7: 0 | I7: 0 | J7: =+H7+I7 -> 0 | K7: 0 | L7: 0 | M7: =+K7+L7 -> 0 | N7: =+D7+G7+J7+M7 -> 0
A8: วิทยาการจัดการ | B8: 0 | C8: 0 | D8: =+B8+C8 -> 0 | E8: 0 | F8: 0 | G8: =+E8+F8 -> 0 | H8: 0 | I8: 0 | J8: =+H8+I8 -> 0 | K8: 0 | L8: 0 | M8: =+K8+L8 -> 0 | N8: =+D8+G8+J8+M8 -> 0
A9: วิทยาศาสตร์และเทคโนโลยี | B9: =+'จำนวน ป.ตรี วงรอบ 64'!D14 -> 237 | C9: =+'จำนวน ป.ตรี วงรอบ 64'!E14 -> 0 | D9: =+B9+C9 -> 237 | E9: 0 | F9: 0 | G9: =+E9+F9 -> 0 | H9: =+'จำนวน ป.โท-เอก วงรอบ 64'!D6 -> 0 | I9: =+'จำนวน ป.โท-เอก วงรอบ 64'!E6 -> 1 | J9: =+H9+I9 -> 1 | K9: =+'จำนวน ป.โท-เอก วงรอบ 64'!D8 -> 3 | L9: =+'จำนวน ป.โท-เอก วงรอบ 64'!E8 -> 0 | M9: =+K9+L9 -> 3 | N9: =+D9+G9+J9+M9 -> 241
A10: เทคโนโลยีการเกษตร | B10: 0 | C10: 0 | D10: =+B10+C10 -> 0 | E10: 0 | F10: 0 | G10: =+E10+F10 -> 0 | H10: 0 | I10: 0 | J10: =+H10+I10 -> 0 | K10: 0 | L10: 0 | M10: =+K10+L10 -> 0 | N10: =+D10+G10+J10+M10 -> 0
A11: เทคโนโลยีอุตสาหกรรม | B11: 0 | C11: 0 | D11: =+B11+C11 -> 0 | E11: 0 | F11: 0 | G11: =+E11+F11 -> 0 | H11: 0 | I11: 0 | J11: =+H11+I11 -> 0 | K11: 0 | L11: 0 | M11: =+K11+L11 -> 0 | N11: =+D11+G11+J11+M11 -> 0
A12: รวม | B12: =SUM(B6:B11) -> 237 | C12: =SUM(C6:C11) -> 0 | D12: =+B12+C12 -> 237 | E12: =SUM(E6:E11) -> 0 | F12: =SUM(F6:F11) -> 0 | G12: =SUM(G6:G11) -> 0 | H12: =SUM(H6:H11) -> 0 | I12: =SUM(I6:I11) -> 1 | J12: =SUM(J6:J11) -> 1 | K12: =SUM(K6:K11) -> 3 | L12: =SUM(L6:L11) -> 0 | ... N12: =SUM(N6:N11) -> 241
A14: หมายเหตุ
A15: 1. ข้อมูลผู้สำเร็จการศึกษา ระดับปริญญาตรี วงรอบปีการศึกษา 2564
A16: ณ วันที่ 24 มิถุนายน 2565 โดย นายนววิช ธงษาราษฎร์ สำนักส่งเสริมวิชาการและงานทะเบียน
A17: 2. ข้อมูลผู้สำเร็จการศึกษา ระดับบัณฑิตศึกษา วงรอบปีการศึกษา 2564
A18: ณ วันที่ 21 มิถุนายน 2565 โดย นางสาวจิราวรรณ สาริบุตร บัณฑิตวิทยาลัย

Sheet จำนวน ป.ตรี วงรอบ 64
A1: ข้อมูลจำนวนผู้สำเร็จการศึกษา ระดับปริญญาตรี คณะวิทยาศาสตร์และเทคโนโลยี วงรอบปีการศึกษา 2564
A2: คณะ / หลักสูตร / สาขาวิชา | D2: จำนวน | G2: หมายเหตุ
D3: ภาคปกติ | E3: ภาค ก.ศป. | F3: รวม
A4: คณะวิทยาศาสตร์และเทคโนโลยี
A5: 1 | B5: วท.บ. (4 ปี) | C5: สาขาวิชาคณิตศาสตร์ | D5: 48 | E5: 0 | F5: =D5+E5 -> 48
A6: 2 | B6: วท.บ. (4 ปี) | C6: สาขาวิชาเคมี | D6: 11 | E6: 0 | F6: =D6+E6 -> 11
A7: 3 | B7: วท.บ. (4 ปี) | C7: สาขาวิชาชีววิทยา | D7: 36 | E7: 0 | F7: =D7+E7 -> 36
A8: 4 | B8: วท.บ. (4 ปี) | C8: สาขาวิชาเทคโนโลยีสารสนเทศ | D8: 40 | E8: 0 | F8: =D8+E8 -> 40
A9: 5 | B9: วท.บ. (4 ปี) | C9: สาขาวิชาฟิสิกส์ | D9: 1 | E9: 0 | F9: =D9+E9 -> 1
A10: 6 | B10: วท.บ. (4 ปี) | C10: สาขาวิชาวิทยาการคอมพิวเตอร์ | D10: 18 | E10: 0 | F10: =D10+E10 -> 18
A11: 7 | B11: วท.บ. (4 ปี) | C11: สาขาวิชาสาธารณสุขศาสตร์ | D11: 70 | E11: 0 | F11: =D11+E11 -> 70
A12: 8 | B12: วท.บ. (4 ปี) | C12: สาขาวิชาวิทยาศาสตร์สิ่งแวดล้อม | D12: 13 | E12: 0 | F12: =D12+E12 -> 13
A13: 9 | B13: วท.บ. (4 ปี) | C13: สาขาวิชาวิทยาการข้อมูล | D13: 0 | E13: 0 | F13: =D13+E13 -> 0 | G13: หลักสูตรใหม่ ปีการศึกษา 62
A14: รวมคณะวิทยาศาสตร์และเทคโนโลยี | D14: =SUM(D5:D13) -> 237 | E14: =SUM(E5:E13) -> 0 | F14: =SUM(F5:F13) -> 237

Sheet รายชื่อ ป.ตรี 64
A1: ข้อมูลรายชื่อผู้สำเร็จการศึกษา ระดับปริญญาตรี คณะวิทยาศาสตร์และเทคโนโลยี วงรอบปีการศึกษา 2564
A2: ลำดับที่ | B2: รหัสนักศึกษา | C2: ชื่อ-สกุล | D2: คณะ | E2: สาขาวิชา | F2: ระดับ | G2: หลักสูตร | H2: วันที่สำเร็จการศึกษา | I2: ประเภทนักศึกษา
A3: 1 | B3: 56102105214 | C3: นายประยุทธ ชัยชนะ | D3: วิทยาศาสตร์และเทคโนโลยี | E3: วิทยาการคอมพิวเตอร์ | F3: วท.บ. 4 ปี | G3: วิทยาศาสตรบัณฑิต | H3: 08/10/2564 | I3: ภาคปกติ
A4: 2 | B4: 56102106245 | C4: นายพงศุวรรณ วังคะฮาต | D4: วิทยาศาสตร์และเทคโนโลยี | E4: เทคโนโลยีสารสนเทศ | F4: วท.บ. 4 ปี | G4: วิทยาศาสตรบัณฑิต | H4: 09/12/2564 | I4: ภาคปกติ
A5: 3 | B5: 57102108120 | C5: นายวีราวัฒน์ สุพิมล | D5: วิทยาศาสตร์และเทคโนโลยี | E5: วิทยาศาสตร์สิ่งแวดล้อม | F5: วท.บ. 4 ปี | G5: วิทยาศาสตรบัณฑิต | H5: 13/08/2564 | I5: ภาคปกติ
A6: 4 | B6: 58102105219 | C6: นายพงศ์ศิริ พนาดี | D6: วิทยาศาสตร์และเทคโนโลยี | E6: วิทยาการคอมพิวเตอร์ | F6: วท.บ. 4 ปี | G6: วิทยาศาสตรบัณฑิต | H6: 08/10/2564 | I6: ภาคปกติ
A7: 5 | B7: 58102106122 | C7: นายวีรภัทร แก่นจันทร์ | D7: วิทยาศาสตร์และเทคโนโลยี | E7: เทคโนโลยีสารสนเทศ | F7: วท.บ. 4 ปี | G7: วิทยาศาสตรบัณฑิต | H7: 13/08/2564 | I7: ภาคปกติ
A8: 6 | B8: 59102106117 | C8: นายชุติพันธุ์ บรรจง | D8: วิทยาศาสตร์และเทคโนโลยี | E8: เทคโนโลยีสารสนเทศ | F8: วท.บ. 4 ปี | G8: วิทยาศาสตรบัณฑิต | H8: 08/10/2564 | I8: ภาคปกติ
A9: 7 | B9: 59102106130 | C9: นายธีระวุฒิ อ่อนนุ้ย | D9: วิทยาศาสตร์และเทคโนโลยี | E9: เทคโนโลยีสารสนเทศ | F9: วท.บ. 4 ปี | G9: วิทยาศาสตรบัณฑิต | H9: 09/12/2564 | I9: ภาคปกติ
A10: 8 | B10: 59102106139 | C10: นายกมล ยะชัยศรี | D10: วิทยาศาสตร์และเทคโนโลยี | E10: เทคโนโลยีสารสนเทศ | F10: วท.บ. 4 ปี | G10: วิทยาศาสตรบัณฑิต | H10: 09/12/2564 | I10: ภาคปกติ
A11: 9 | B11: 59102106206 | C11: นายบุรินทร์ บุทธิจักร์ | D11: วิทยาศาสตร์และเทคโนโลยี | E11: เทคโนโลยีสารสนเทศ | F11: วท.บ. 4 ปี | G11: วิทยาศาสตรบัณฑิต | H11: 09/12/2564 | I11: ภาคปกติ
A12: 10 | B12: 59102106218 | C12: นายกิตติภพ อินาลา | D12: วิทยาศาสตร์และเทคโนโลยี | E12: เทคโนโลยีสารสนเทศ | F12: วท.บ. 4 ปี | G12: วิทยาศาสตรบัณฑิต | H12: 13/08/2564 | I12: ภาคปกติ
A13: 11 | B13: 59102106236 | C13: นายเอกฉัตร ปีพิมพ์ | D13: วิทยาศาสตร์และเทคโนโลยี | E13: เทคโนโลยีสารสนเทศ | F13: วท.บ. 4 ปี | G13: วิทยาศาสตรบัณฑิต | H13: 13/08/2564 | I13: ภาคปกติ
A14: 12 | B14: 60102101104 | C14: นางสาวจุฑารัตน์ นาโควงค์ | D14: วิทยาศาสตร์และเทคโนโลยี | E14: เคมี | F14: วท.บ. 4 ปี | G14: วิทยาศาสตรบัณฑิต | H14: 13/08/2564 | I14: ภาคปกติ
... A239: 237 | B239: 61102116242 | C239: นางสาวพรชุตา อุสาพรหม | D239: วิทยาศาสตร์และเทคโนโลยี | E239: สาธารณสุขศาสตร์ | F239: วท.บ. 4 ปี | G239: วิทยาศาสตรบัณฑิต | H239: 04/04/2565 | I239: ภาคปกติ

Sheet จำนวน ป.โท-เอก วงรอบ 64
A1: ข้อมูลจำนวนผู้สำเร็จการศึกษา ระดับบัณฑิตศึกษา คณะวิทยาศาสตร์และเทคโนโลยี วงรอบปีการศึกษา 2564
A2: คณะ / หลักสูตร / สาขาวิชา | D2: จำนวน | G2: หมายเหตุ
D3: ภาคปกติ | E3: ภาคพิเศษ | F3: รวม
A4: คณะวิทยาศาสตร์และเทคโนโลยี
A5: ระดับปริญญาโท
A6: วท.ม. | C6: สาขาวิชาฟิสิกส์ | D6: 0 | E6: 1 | F6: =+D6+E6 -> 1
A7: ระดับปริญญาเอก
A8: ปร.ด. | C8: สาขาวิชาฟิสิกส์ | D8: 3 | E8: 0 | F8: =+D8+E8 -> 3
A9: รวมคณะวิทยาศาสตร์และเทคโนโลยี | D9: =+D6+D8 -> 3 | E9: =+E6+E8 -> 1 | F9: =+F6+F8 -> 4
A10: วท.ม. | C10: สาขาวิชาวิทยาการสารสนเทศและเทคโนโลยี | D10: 0 | E10: 1 | F10: =+D10+E10 -> 1 | G10: ปิดหลักสูตร ไม่นำมาคำนวณ

Sheet รายชื่อ โท - เอก 64
A1: ข้อมูลรายชื่อผู้สำเร็จการศึกษา ระดับบัณฑิตศึกษา คณะวิทยาศาสตร์และเทคโนโลยี วงรอบปีการศึกษา 2564
A2: ลำดับที่ | B2: รหัสนักศึกษา | C2: ชื่อ-สกุล | D2: คณะ | E2: สาขาวิชา | F2: ระดับ | G2: ปริญญา | H2: วันที่สำเร็จการศึกษา | I2: ประเภทนักศึกษา
A3: 1 | B3: 60532103102 | C3: Mr. Soe Ko Ko Aung | D3: วิทยาศาสตร์และเทคโนโลยี | E3: ฟิสิกส์ | F3: ป.เอก | G3: ปรัชญาดุษฎีบัณฑิต | H3: 3 ธันวาคม 2564 | I3: ภาคปกติ
A4: 2 | B4: 58532103101 | C4: นางสาวพนิดา พิลาสุตา | D4: วิทยาศาสตร์และเทคโนโลยี | E4: ฟิสิกส์ | F4: ป.เอก | G4: ปรัชญาดุษฎีบัณฑิต | H4: 17 กุมภาพันธ์ 2565 | I4: ภาคปกติ
A5: 3 | B5: 60532103103 | C5: นางสาววนัชพร นามหงษา | D5: วิทยาศาสตร์และเทคโนโลยี | E5: ฟิสิกส์ | F5: ป.เอก | G5: ปรัชญาดุษฎีบัณฑิต | H5: 7 เมษายน 2565 | I5: ภาคปกติ
A6: 4 | B6: 61325103104 | C6: นางสาวเมขลา อินสว่าง | D6: วิทยาศาสตร์และเทคโนโลยี | E6: ฟิสิกส์ | F6: ป.โท | G6: วิทยาศาสตรมหาบัณฑิต | H6: 8 มิถุนายน 2565 | I6: ภาคพิเศษ
A7: 5 | B7: 59425117102 | C7: นายศรัณยู ชูทองรัตนะ | D7: วิทยาศาสตร์และเทคโนโลยี | E7: วิทยาการสารสนเทศและเทคโนโลยี | F7: ป.โท | G7: วิทยาศาสตรมหาบัณฑิต | H7: 8 มิถุนายน 2565 | I7: ภาคพิเศษ | J7: *ปิดหลักสูตร ไม่นำมาคำนวณ

Sheet รายชื่อ โท - เอก 
A1: ข้อมูลรายชื่อผู้สำเร็จการศึกษา ระดับบัณฑิตศึกษา วงรอบปีการศึกษา 2564
A2: ลำดับที่ | B2: รหัสนักศึกษา | C2: ชื่อ-สกุล | D2: คณะ | E2: สาขาวิชา | F2: ระดับ | G2: ปริญญา | H2: วันที่สำเร็จการศึกษา | I2: ประเภทนักศึกษา
